BEGIN:VCALENDAR
VERSION:2.0
PRODID:icalendar-ruby
CALSCALE:GREGORIAN
METHOD:PUBLISH
BEGIN:VEVENT
DTSTAMP:20260421T005644Z
UID:101-1102693@newzionchristianchurch.org
DTSTART:20260610T230000Z
DTEND:20260611T000000Z
CLASS:PUBLIC
CREATED:20260319T151210
DESCRIPTION:Join Us For Our Bible Study!\nJoin us every Wednesday night at 
 7 PM for our new study that delves into the tests\, challenges\, and bibli
 cal accounts of some of our biblical ancestors who faced odds in their liv
 es that were logically and mathematically against them\, even though the v
 isible outcome did not seem to be in their favor. Each week you will be pr
 esented with a personal challenge that will encourage you to move from adm
 iration of the character highlighted to an examination of your own decisio
 ns. With so many insurmountable odds facing us a people and as a faith mov
 ement\, we need to know that God Yahweh is still our source of trust. The 
 stories and questions in this study are designed to remind you and confirm
  that truth.\n\nBible Study Course Link: https://auxanouniversity.org/cou
 rses/insurmountable-odds/\n\nClick the button to join our Bible Study on Z
 oom.
LAST-MODIFIED:20260319T151210
LOCATION:https://thezonline.org/biblestudy
SUMMARY:Bible Study: Insurmountable Odds
URL;VALUE=URI:https://www.prod.newzionchristianchurch.org/events/bible-stud
 y-insurmountable-odds/2026-06-10
ATTACH;FILENAME=Insurmountable-Odds.png;FMTTYPE=image/png:https://dq5pwpg1q
 8ru0.cloudfront.net/2026/03/19/19/11/10/ca781d38-37f6-42d5-a18e-2e41986826
 95/Insurmountable-Odds.png
END:VEVENT
END:VCALENDAR
